BEGIN:VCALENDAR
VERSION:2.0
PRODID:icalendar-ruby
CALSCALE:GREGORIAN
BEGIN:VEVENT
DTSTAMP:20260423T163322Z
UID:2eacd230-cc10-4fb8-a5f5-ddbd82e64fc3
DTSTART;VALUE=DATE:20200305
DESCRIPTION:Property ID# 473977\, Locatoin: 1/77 Thorndon Quay\, Wellington
 \, Time: 1:00PM
SUMMARY:Auction for 
END:VEVENT
END:VCALENDAR
