BEGIN:VCALENDAR
VERSION:2.0
PRODID:icalendar-ruby
CALSCALE:GREGORIAN
BEGIN:VEVENT
DTSTAMP:20260423T164402Z
UID:50a19267-d712-4e34-9bc5-71738e206cc1
DTSTART;VALUE=DATE:20200924
DESCRIPTION:Property ID# 489699\, Locatoin: 1/77 Thorndon Quay\, Wellington
 \, Time: 1:00PM
SUMMARY:Auction for 
END:VEVENT
END:VCALENDAR
