BEGIN:VCALENDAR
VERSION:2.0
PRODID:icalendar-ruby
CALSCALE:GREGORIAN
BEGIN:VEVENT
DTSTAMP:20260419T220406Z
UID:4b0a3e4a-5148-4790-bc93-d25f80426bd1
DTSTART;VALUE=DATE:20210617
DESCRIPTION:Property ID# 510876\, Locatoin: 8 Kent Terrace\, Wellington\, T
 ime: 1:00PM
SUMMARY:Auction for 
END:VEVENT
END:VCALENDAR
