BEGIN:VCALENDAR
VERSION:2.0
PRODID:icalendar-ruby
CALSCALE:GREGORIAN
BEGIN:VEVENT
DTSTAMP:20260422T002900Z
UID:205df701-73dd-4e28-b2ce-9da376babc89
DTSTART;VALUE=DATE:20231005
DESCRIPTION:Property ID# 562262\, Locatoin: 8 Kent Terrace\, Wellington\, T
 ime: 12:00PM
SUMMARY:Auction for 
END:VEVENT
END:VCALENDAR
