BEGIN:VCALENDAR
VERSION:2.0
PRODID:icalendar-ruby
CALSCALE:GREGORIAN
BEGIN:VEVENT
DTSTAMP:20260425T121421Z
UID:eaa29f29-e09c-48bb-956c-d5a0db87b887
DTSTART;VALUE=DATE:20240606
DESCRIPTION:Property ID# 575930\, Locatoin: 8 Kent Terrace\, Wellington\, T
 ime: 1:00AM
SUMMARY:Auction for 
END:VEVENT
END:VCALENDAR
