BEGIN:VCALENDAR
VERSION:2.0
PRODID:icalendar-ruby
CALSCALE:GREGORIAN
BEGIN:VEVENT
DTSTAMP:20260425T145641Z
UID:78e4ff4f-35ee-481f-a6ae-dba48e73469c
DTSTART;VALUE=DATE:20240604
DESCRIPTION:Property ID# 576610\, Locatoin: 8 Kent Terrace\, Wellington\, T
 ime: 12:00PM
SUMMARY:Auction for 
END:VEVENT
END:VCALENDAR
