BEGIN:VCALENDAR
VERSION:2.0
PRODID:icalendar-ruby
CALSCALE:GREGORIAN
BEGIN:VEVENT
DTSTAMP:20260422T070047Z
UID:315a4905-850b-483c-a2c9-ffd69458415a
DTSTART;VALUE=DATE:20240711
DESCRIPTION:Property ID# 577429\, Locatoin: 8 Kent Terrace\, Wellington\, T
 ime: 2:00PM
SUMMARY:Auction for 
END:VEVENT
END:VCALENDAR
