BEGIN:VCALENDAR
VERSION:2.0
PRODID:icalendar-ruby
CALSCALE:GREGORIAN
BEGIN:VEVENT
DTSTAMP:20260422T034642Z
UID:64e0dcf5-9272-4e6b-88f7-abdf1c8f472c
DTSTART;VALUE=DATE:20241010
DESCRIPTION:Property ID# 581069\, Locatoin: 2/153 Karori Road\, Wellington\
 , Time: 12:00PM
SUMMARY:Auction for 
END:VEVENT
END:VCALENDAR
