BEGIN:VCALENDAR
VERSION:2.0
PRODID:icalendar-ruby
CALSCALE:GREGORIAN
BEGIN:VEVENT
DTSTAMP:20260422T035734Z
UID:41064731-3d4f-4be4-a05b-e61f216747f0
DTSTART;VALUE=DATE:20241107
DESCRIPTION:Property ID# 582632\, Locatoin: 2/153 Karori Road\, Wellington\
 , Time: 12:00PM
SUMMARY:Auction for 
END:VEVENT
END:VCALENDAR
