BEGIN:VCALENDAR
VERSION:2.0
PRODID:icalendar-ruby
CALSCALE:GREGORIAN
BEGIN:VEVENT
DTSTAMP:20260422T034923Z
UID:f27fed41-c4db-4bb7-9e22-de23b6efef36
DTSTART;VALUE=DATE:20250123
DESCRIPTION:Property ID# 585761\, Locatoin: 2/153 Karori Road\, Wellington\
 , Time: 12:00PM
SUMMARY:Auction for 
END:VEVENT
END:VCALENDAR
