BEGIN:VCALENDAR
VERSION:2.0
PRODID:icalendar-ruby
CALSCALE:GREGORIAN
BEGIN:VEVENT
DTSTAMP:20260424T090101Z
UID:fe6ebd6b-7236-4922-8e08-fe7e30db5dec
DTSTART;VALUE=DATE:20250306
DESCRIPTION:Property ID# 588199\, Locatoin: 2/153 Karori Road\, Wellington\
 , Time: 12:00PM
SUMMARY:Auction for 
END:VEVENT
END:VCALENDAR
