BEGIN:VCALENDAR
VERSION:2.0
PRODID:icalendar-ruby
CALSCALE:GREGORIAN
BEGIN:VEVENT
DTSTAMP:20260422T035733Z
UID:473873ed-b110-4532-a32a-3c0ede1ad60d
DTSTART;VALUE=DATE:20250411
DESCRIPTION:Property ID# 590538\, Locatoin: 2/153 Karori Road\, Wellington\
 , Time: 12:00PM
SUMMARY:Auction for 
END:VEVENT
END:VCALENDAR
