BEGIN:VCALENDAR
VERSION:2.0
PRODID:icalendar-ruby
CALSCALE:GREGORIAN
BEGIN:VEVENT
DTSTAMP:20260420T100215Z
UID:f0a0ec2b-c818-44e1-800f-f74ceaf9f60f
DTSTART;VALUE=DATE:20250723
DESCRIPTION:Property ID# 592829\, Locatoin: 8 Kent Terrace\, Wellington \, 
 Time: 1:00PM
SUMMARY:Auction for 
END:VEVENT
END:VCALENDAR
