BEGIN:VCALENDAR
VERSION:2.0
PRODID:icalendar-ruby
CALSCALE:GREGORIAN
BEGIN:VEVENT
DTSTAMP:20260425T145514Z
UID:10c719d8-4b09-40b3-b1c7-8d9b37107c3e
DTSTART;VALUE=DATE:20250724
DESCRIPTION:Property ID# 594354\, Locatoin: 8 Kent Terrace\, Wellington (wi
 ll not be sold prior)\, Time: 12:00PM
SUMMARY:Auction for 
END:VEVENT
END:VCALENDAR
