BEGIN:VCALENDAR
VERSION:2.0
PRODID:icalendar-ruby
CALSCALE:GREGORIAN
BEGIN:VEVENT
DTSTAMP:20260422T035210Z
UID:2d594a59-9016-4101-a844-85791cae97cc
DTSTART;VALUE=DATE:20250925
DESCRIPTION:Property ID# 596938\, Locatoin: 2/153 Karori Road\, Wellington\
 , Time: 12:00PM
SUMMARY:Auction for 
END:VEVENT
END:VCALENDAR
