BEGIN:VCALENDAR
VERSION:2.0
PRODID:icalendar-ruby
CALSCALE:GREGORIAN
BEGIN:VEVENT
DTSTAMP:20260422T070236Z
UID:cb8bab5a-f70b-433a-a927-6decb6f39ecb
DTSTART;VALUE=DATE:20251113
DESCRIPTION:Property ID# 599248\, Locatoin: 8 Kent Terrace\, Wellington\, T
 ime: 1:00PM
SUMMARY:Auction for 
END:VEVENT
END:VCALENDAR
