BEGIN:VCALENDAR
VERSION:2.0
PRODID:icalendar-ruby
CALSCALE:GREGORIAN
BEGIN:VEVENT
DTSTAMP:20260422T135947Z
UID:4a5d74fa-9734-4d78-a014-0317b07405ba
DTSTART;VALUE=DATE:20260515
DESCRIPTION:Property ID# 606960\, Locatoin: 1/77 Thorndon Quay Wellington\,
  Time: 11:00AM
SUMMARY:Auction for 111 Queens Drive
END:VEVENT
END:VCALENDAR
