BEGIN:VCALENDAR
VERSION:2.0
PRODID:icalendar-ruby
CALSCALE:GREGORIAN
BEGIN:VEVENT
DTSTAMP:20260422T135649Z
UID:53824fc7-f89c-466f-ade6-c53210908cec
DTSTART;TZID=Pacific/Auckland:20260426T123000
DTEND;TZID=Pacific/Auckland:20260426T130000
DESCRIPTION:Property ID# 606960
SUMMARY:Openhome for 111 Queens Drive
END:VEVENT
END:VCALENDAR
